BEGIN:VCALENDAR
VERSION:2.0
PRODID:-//Humboldt Trails Council - ECPv6.15.20//NONSGML v1.0//EN
CALSCALE:GREGORIAN
METHOD:PUBLISH
X-WR-CALNAME:Humboldt Trails Council
X-ORIGINAL-URL:https://humtrails.org
X-WR-CALDESC:Events for Humboldt Trails Council
REFRESH-INTERVAL;VALUE=DURATION:PT1H
X-Robots-Tag:noindex
X-PUBLISHED-TTL:PT1H
BEGIN:VTIMEZONE
TZID:America/Los_Angeles
BEGIN:DAYLIGHT
TZOFFSETFROM:-0800
TZOFFSETTO:-0700
TZNAME:PDT
DTSTART:20290311T100000
END:DAYLIGHT
BEGIN:STANDARD
TZOFFSETFROM:-0700
TZOFFSETTO:-0800
TZNAME:PST
DTSTART:20291104T090000
END:STANDARD
BEGIN:DAYLIGHT
TZOFFSETFROM:-0800
TZOFFSETTO:-0700
TZNAME:PDT
DTSTART:20300310T100000
END:DAYLIGHT
BEGIN:STANDARD
TZOFFSETFROM:-0700
TZOFFSETTO:-0800
TZNAME:PST
DTSTART:20301103T090000
END:STANDARD
BEGIN:DAYLIGHT
TZOFFSETFROM:-0800
TZOFFSETTO:-0700
TZNAME:PDT
DTSTART:20310309T100000
END:DAYLIGHT
BEGIN:STANDARD
TZOFFSETFROM:-0700
TZOFFSETTO:-0800
TZNAME:PST
DTSTART:20311102T090000
END:STANDARD
END:VTIMEZONE
BEGIN:VEVENT
DTSTART;TZID=America/Los_Angeles:20300921T090000
DTEND;TZID=America/Los_Angeles:20300921T110000
DTSTAMP:20260419T073505
CREATED:20250804T204531Z
LAST-MODIFIED:20251105T182645Z
UID:10001778-1916211600-1916218800@humtrails.org
SUMMARY:Waterfront Trail North
DESCRIPTION:Meet at 1st and X Street in Eureka.
URL:https://humtrails.org/event/waterfront-trail-north/2030-09-21/
LOCATION:Eureka Waterfront Trail North\, 1 X St.\, Eureka\, CA\, 95503\, United States
END:VEVENT
BEGIN:VEVENT
DTSTART;TZID=America/Los_Angeles:20301019T090000
DTEND;TZID=America/Los_Angeles:20301019T110000
DTSTAMP:20260419T073505
CREATED:20250804T204531Z
LAST-MODIFIED:20251105T182645Z
UID:10001779-1918630800-1918638000@humtrails.org
SUMMARY:Waterfront Trail North
DESCRIPTION:Meet at 1st and X Street in Eureka.
URL:https://humtrails.org/event/waterfront-trail-north/2030-10-19/
LOCATION:Eureka Waterfront Trail North\, 1 X St.\, Eureka\, CA\, 95503\, United States
END:VEVENT
END:VCALENDAR